BEGIN:VCALENDAR
VERSION:2.0
CALSCALE:GREGORIAN
PRODID:adamgibbons/ics
METHOD:PUBLISH
X-PUBLISHED-TTL:PT1H
BEGIN:VEVENT
UID:Lrz20rny6oDLeIYgeg-Me
SUMMARY:5. Pflanzentauschbörse
DTSTAMP:20260409T055437Z
DTSTART:20260418T110000
DTEND:20260418T110000
DESCRIPTION:Komm vorbei und tausche Kräuter\, Stauden oder Obstbäume.
LOCATION:Biosphärenzentrum\, Elbstraße 11\, 19273 Konau
CATEGORIES:Veranstaltung
ORGANIZER;CN="Gemeinde Amt Neuhaus":
END:VEVENT
END:VCALENDAR
