BEGIN:VCALENDAR
VERSION:2.0
CALSCALE:GREGORIAN
PRODID:adamgibbons/ics
METHOD:PUBLISH
X-PUBLISHED-TTL:PT1H
BEGIN:VEVENT
UID:0GmiisZ-7rFmcDx685dn5
SUMMARY:Küsschen\, Küsschen
DTSTAMP:20260414T120735Z
DTSTART:20260509T170000
DTEND:20260509T170000
DESCRIPTION:Lesung mit Musik: skurrile Geschichten von Roald Dahl. Mit Rein
	hard Krökel und Jan Wölke
LOCATION:Konau 25\, Elbstraße 25\, 19273 Konau
CATEGORIES:Veranstaltung
ORGANIZER;CN="Frohe Zukunft e.V.":
END:VEVENT
END:VCALENDAR
